BEGIN:VCALENDAR
VERSION:2.0
PRODID:-//Hütte Markbronn e.V. - ECPv4.4.4//NONSGML v1.0//EN
CALSCALE:GREGORIAN
METHOD:PUBLISH
X-WR-CALNAME:Hütte Markbronn e.V.
X-ORIGINAL-URL:http://www.huette-markbronn.de
X-WR-CALDESC:Events for Hütte Markbronn e.V.
BEGIN:VEVENT
DTSTART;TZID=UTC+1:20131002T184500
DTEND;TZID=UTC+1:20131002T184500
DTSTAMP:20260422T174351
CREATED:20130912T183318Z
LAST-MODIFIED:20130920T135716Z
UID:1604-1380739500-1380739500@www.huette-markbronn.de
SUMMARY:5. Markbronner Oktoberfest
DESCRIPTION:Der FC Blautal und die Hütte Markbronn laden am Mi. 2.10.2012 wieder in die Neidegghalle\, zum 5. Markbronner Oktoberfest ein. Nach den tollen Erfolgen und vollen Hallen in den vergangenen Jahren\, sorgt auch in diesem Jahr die angesagte Partyband „Albfetza“ für Stimmung und Unterhaltung\, wie man es von den Bierzelten in München gewohnt ist.\nEinlass ist ab 18.45 Uhr\, Fassanstich ist um 19.00 Uhr. Für das leibliche Wohl ist bestens gesorgt. Bayerische Schmankerl wie Schweinebraten und Leberkäse warten auf Sie. Also\, schwingen Sie sich gerne in Dirnd’l und Lederhos’n und nehmen Sie an diesem geselligen Abend teil.\nKarten gibt es ab 20.09.13 im Vorverkauf für 8 €\, bei Kirsamers Backstube in Arnegg\, in der Raiffeisen Bank in Arnegg\, Spielburg in Blaustein und beim Getränkemarkt Kunst in Ringingen.\nNatürlich haben wir auch noch Karten an der Abendkasse für Sie reserviert\, auch einem spontanen Besuch steht also nichts im Wege.\n\nWir freuen uns auf Ihr kommen.\n\n
URL:http://www.huette-markbronn.de/termin/5-markbronner-oktoberfest/
END:VEVENT
END:VCALENDAR