BEGIN:VCALENDAR
VERSION:2.0
PRODID:-//Hütte Markbronn e.V. - ECPv4.4.4//NONSGML v1.0//EN
CALSCALE:GREGORIAN
METHOD:PUBLISH
X-WR-CALNAME:Hütte Markbronn e.V.
X-ORIGINAL-URL:http://www.huette-markbronn.de
X-WR-CALDESC:Events for Hütte Markbronn e.V.
BEGIN:VEVENT
DTSTART;TZID=UTC+1:20170506T210000
DTEND;TZID=UTC+1:20170506T235500
DTSTAMP:20260425T034333
CREATED:20170318T184637Z
LAST-MODIFIED:20170318T184637Z
UID:2643-1494104400-1494114900@www.huette-markbronn.de
SUMMARY:Baustellafescht
DESCRIPTION:
URL:http://www.huette-markbronn.de/termin/baustellafescht/
LOCATION:Pappelauerstr. 74\, Blaustein\, 89134
END:VEVENT
END:VCALENDAR