BEGIN:VCALENDAR
VERSION:2.0
PRODID:-//Hütte Markbronn e.V. - ECPv4.4.4//NONSGML v1.0//EN
CALSCALE:GREGORIAN
METHOD:PUBLISH
X-WR-CALNAME:Hütte Markbronn e.V.
X-ORIGINAL-URL:http://www.huette-markbronn.de
X-WR-CALDESC:Events for Hütte Markbronn e.V.
BEGIN:VEVENT
DTSTART;TZID=UTC+1:20170602T140000
DTEND;TZID=UTC+1:20170602T190000
DTSTAMP:20260425T103711
CREATED:20170517T174230Z
LAST-MODIFIED:20170517T174230Z
UID:2704-1496412000-1496430000@www.huette-markbronn.de
SUMMARY:Baustelle
DESCRIPTION:
URL:http://www.huette-markbronn.de/termin/baustelle-5/
LOCATION:Pappelauerstr. 74\, Blaustein\, 89134
CATEGORIES:Intern
END:VEVENT
END:VCALENDAR