BEGIN:VCALENDAR
VERSION:2.0
PRODID:-//Hütte Markbronn e.V. - ECPv4.4.4//NONSGML v1.0//EN
CALSCALE:GREGORIAN
METHOD:PUBLISH
X-WR-CALNAME:Hütte Markbronn e.V.
X-ORIGINAL-URL:http://www.huette-markbronn.de
X-WR-CALDESC:Events for Hütte Markbronn e.V.
BEGIN:VEVENT
DTSTART;VALUE=DATE:20150501
DTEND;VALUE=DATE:20150501
DTSTAMP:20260422T155827
CREATED:20150122T160158Z
LAST-MODIFIED:20150122T160158Z
UID:2065-1430438400-1430524799@www.huette-markbronn.de
SUMMARY:Grillen und Volleyball
DESCRIPTION:
URL:http://www.huette-markbronn.de/termin/grillen-und-volleyball/
LOCATION:Pappelauerstr. 74\, Blaustein\, 89134
END:VEVENT
END:VCALENDAR