BEGIN:VCALENDAR
VERSION:2.0
PRODID:-//Hütte Markbronn e.V. - ECPv4.4.4//NONSGML v1.0//EN
CALSCALE:GREGORIAN
METHOD:PUBLISH
X-WR-CALNAME:Hütte Markbronn e.V.
X-ORIGINAL-URL:http://www.huette-markbronn.de
X-WR-CALDESC:Events for Hütte Markbronn e.V.
BEGIN:VEVENT
DTSTART;TZID=UTC+1:20130705T190000
DTEND;TZID=UTC+1:20130705T230000
DTSTAMP:20260422T190212
CREATED:20130702T204626Z
LAST-MODIFIED:20130702T204713Z
UID:1509-1373050800-1373065200@www.huette-markbronn.de
SUMMARY:Grillen\, vor allem die Jungen und Jüngeren. 
DESCRIPTION:Laut Facebook wird am 5. Juli in der Hütte gegrillt.\nWurst\, Fleisch\, Käse\, Lederlappen und was sonst noch gerne gegrillt wird\, darf inkl. den Freunden mitgebracht werden. Davor\, danach und währenddessen kann die Zeit mit Volleyball\, Kischticker und sonstigen Aktivitäten verbracht werden\, vorrausgesetzt ihr bringt Freunde mit\, die das auch mögen.\n\nAhoi und Mahlzeit\, bis Freitag. Los geht es um 19 Uhr.
URL:http://www.huette-markbronn.de/termin/grillen-vor-allem-die-jungen-und-jungeren/
END:VEVENT
END:VCALENDAR