BEGIN:VCALENDAR
VERSION:2.0
PRODID:-//Hütte Markbronn e.V. - ECPv4.4.4//NONSGML v1.0//EN
CALSCALE:GREGORIAN
METHOD:PUBLISH
X-WR-CALNAME:Hütte Markbronn e.V.
X-ORIGINAL-URL:http://www.huette-markbronn.de
X-WR-CALDESC:Events for Hütte Markbronn e.V.
BEGIN:VEVENT
DTSTART;TZID=UTC+1:20160715T200000
DTEND;TZID=UTC+1:20160715T235500
DTSTAMP:20260424T191234
CREATED:20160513T175957Z
LAST-MODIFIED:20160513T175957Z
UID:2223-1468612800-1468626900@www.huette-markbronn.de
SUMMARY:Hüttenfest
DESCRIPTION:
URL:http://www.huette-markbronn.de/termin/huettenfest-3/
LOCATION:Pappelauerstr. 74\, Blaustein\, 89134
END:VEVENT
END:VCALENDAR