BEGIN:VCALENDAR
VERSION:2.0
PRODID:-//Hütte Markbronn e.V. - ECPv4.4.4//NONSGML v1.0//EN
CALSCALE:GREGORIAN
METHOD:PUBLISH
X-WR-CALNAME:Hütte Markbronn e.V.
X-ORIGINAL-URL:http://www.huette-markbronn.de
X-WR-CALDESC:Events for Hütte Markbronn e.V.
BEGIN:VEVENT
DTSTART;TZID=UTC+1:20160717T100000
DTEND;TZID=UTC+1:20160717T210000
DTSTAMP:20260424T203804
CREATED:20160513T180116Z
LAST-MODIFIED:20160513T180116Z
UID:2225-1468749600-1468789200@www.huette-markbronn.de
SUMMARY:Hüttenfest
DESCRIPTION:
URL:http://www.huette-markbronn.de/termin/huettenfest-4/
LOCATION:Pappelauerstr. 74\, Blaustein\, 89134
END:VEVENT
END:VCALENDAR