BEGIN:VCALENDAR
VERSION:2.0
PRODID:-//Hütte Markbronn e.V. - ECPv4.4.4//NONSGML v1.0//EN
CALSCALE:GREGORIAN
METHOD:PUBLISH
X-WR-CALNAME:Hütte Markbronn e.V.
X-ORIGINAL-URL:http://www.huette-markbronn.de
X-WR-CALDESC:Events for Hütte Markbronn e.V.
BEGIN:VEVENT
DTSTART;VALUE=DATE:20140713
DTEND;VALUE=DATE:20140713
DTSTAMP:20260421T103823
CREATED:20140514T084034Z
LAST-MODIFIED:20140619T092023Z
UID:1808-1405209600-1405295999@www.huette-markbronn.de
SUMMARY:Hüttenfest
DESCRIPTION:Am Sonntag\, 13.07.2014 ist  das ganze Dorf (wers genau nehmen will beide Dörfer) zum gemütlichen Teil des Hüttenfests eingeladen.\n\nLos gehts um 10:00 Uhr mit Weißwurstfrühstück und fetziger Musik. Kein Bock auf Kochen am Sonntag ? Kein Problem ! Braten und Kartoffelsalat sind an diesem Tag im Angebot. Natürlich kommen auch die Kleinen bei uns nicht zu kurz: Kistenstapeln\, Dosenwerfen usw sorgt für gute Laune der nachwuchs Hüttengänger ;-)\n\nUnd was ist ein Sonntagnachmittag ohne Kaffee und Kuchen? Wahrscheinlich ne Lachnummer aber dem stehen wir entgegen. Über guten Kaffee mit Zucker und eine große Auswahl an Kuchen freut sich jeder süße Zahn.\n\nJung und Alt zusammen\, ein gemütlicher Sonntag von der Hütte für Markbronn und Dietingen. Wir freuen uns auf viele Gäste und gutes Wetter\, damit es ein schöner Tag wird.
URL:http://www.huette-markbronn.de/termin/huettenfest/
LOCATION:Pappelauerstr. 74\, Blaustein\, 89134
END:VEVENT
END:VCALENDAR