BEGIN:VCALENDAR
VERSION:2.0
PRODID:-//Hütte Markbronn e.V. - ECPv4.4.4//NONSGML v1.0//EN
CALSCALE:GREGORIAN
METHOD:PUBLISH
X-WR-CALNAME:Hütte Markbronn e.V.
X-ORIGINAL-URL:http://www.huette-markbronn.de
X-WR-CALDESC:Events for Hütte Markbronn e.V.
BEGIN:VEVENT
DTSTART;VALUE=DATE:20141226
DTEND;VALUE=DATE:20141228
DTSTAMP:20260422T092500
CREATED:20141127T195450Z
LAST-MODIFIED:20141127T195450Z
UID:2029-1419552000-1419811199@www.huette-markbronn.de
SUMMARY:JAD Wanderkino
DESCRIPTION:
URL:http://www.huette-markbronn.de/termin/jad-wanderkino/
END:VEVENT
END:VCALENDAR