BEGIN:VCALENDAR
VERSION:2.0
PRODID:-//Hütte Markbronn e.V. - ECPv4.4.4//NONSGML v1.0//EN
CALSCALE:GREGORIAN
METHOD:PUBLISH
X-WR-CALNAME:Hütte Markbronn e.V.
X-ORIGINAL-URL:http://www.huette-markbronn.de
X-WR-CALDESC:Events for Hütte Markbronn e.V.
BEGIN:VEVENT
DTSTART;TZID=UTC+1:20160304T190000
DTEND;TZID=UTC+1:20160304T220000
DTSTAMP:20260424T123003
CREATED:20160216T190408Z
LAST-MODIFIED:20160216T190641Z
UID:2185-1457118000-1457128800@www.huette-markbronn.de
SUMMARY:Jahreshauptversammlung 2016
DESCRIPTION:
URL:http://www.huette-markbronn.de/termin/jahreshauptversammlung-2016/
END:VEVENT
END:VCALENDAR