BEGIN:VCALENDAR
VERSION:2.0
PRODID:-//Hütte Markbronn e.V. - ECPv4.4.4//NONSGML v1.0//EN
CALSCALE:GREGORIAN
METHOD:PUBLISH
X-WR-CALNAME:Hütte Markbronn e.V.
X-ORIGINAL-URL:http://www.huette-markbronn.de
X-WR-CALDESC:Events for Hütte Markbronn e.V.
BEGIN:VEVENT
DTSTART;TZID=UTC+1:20150430T190000
DTEND;TZID=UTC+1:20150430T230000
DTSTAMP:20260422T143551
CREATED:20150122T160104Z
LAST-MODIFIED:20150122T160406Z
UID:2064-1430420400-1430434800@www.huette-markbronn.de
SUMMARY:Maibaum stellen
DESCRIPTION:
URL:http://www.huette-markbronn.de/termin/maibaum-stellen/
LOCATION:Pappelauerstr. 74\, Blaustein\, 89134\, Deutschland
END:VEVENT
END:VCALENDAR