BEGIN:VCALENDAR
VERSION:2.0
PRODID:-//Hütte Markbronn e.V. - ECPv4.4.4//NONSGML v1.0//EN
CALSCALE:GREGORIAN
METHOD:PUBLISH
X-WR-CALNAME:Hütte Markbronn e.V.
X-ORIGINAL-URL:http://www.huette-markbronn.de
X-WR-CALDESC:Events for Hütte Markbronn e.V.
BEGIN:VEVENT
DTSTART;TZID=UTC+1:20161028T210000
DTEND;TZID=UTC+1:20161028T235500
DTSTAMP:20260424T215945
CREATED:20160926T181615Z
LAST-MODIFIED:20160926T181615Z
UID:2280-1477688400-1477698900@www.huette-markbronn.de
SUMMARY:Maßparty
DESCRIPTION:
URL:http://www.huette-markbronn.de/termin/massparty/
END:VEVENT
END:VCALENDAR