BEGIN:VCALENDAR
VERSION:2.0
PRODID:-//Hütte Markbronn e.V. - ECPv4.4.4//NONSGML v1.0//EN
CALSCALE:GREGORIAN
METHOD:PUBLISH
X-WR-CALNAME:Hütte Markbronn e.V.
X-ORIGINAL-URL:http://www.huette-markbronn.de
X-WR-CALDESC:Events for Hütte Markbronn e.V.
BEGIN:VEVENT
DTSTART;TZID=UTC+1:20131206T190000
DTEND;TZID=UTC+1:20131206T190000
DTSTAMP:20260422T161408
CREATED:20131125T003424Z
LAST-MODIFIED:20131125T003614Z
UID:1616-1386356400-1386356400@www.huette-markbronn.de
SUMMARY:Nikolausparty
DESCRIPTION:Am Freitag den 6. Dezember ab 19 Uhr findet traditionell unsere Nikolausparty statt. Wie üblich soll dies keine Großveranstaltung werden sondern ein gemütlicher Abend mit Musik und Freunden aus dem Dorf und für das Dorf. Mit Glühwein\, alkoholfreiem Punsch und eigenem Most wird auch für die innere Wärme bestens gesorgt.
URL:http://www.huette-markbronn.de/termin/nikolausparty/
LOCATION:Pappelauerstr. 74\, Blaustein\, 89134
END:VEVENT
END:VCALENDAR