BEGIN:VCALENDAR
VERSION:2.0
PRODID:-//Hütte Markbronn e.V. - ECPv4.4.4//NONSGML v1.0//EN
CALSCALE:GREGORIAN
METHOD:PUBLISH
X-WR-CALNAME:Hütte Markbronn e.V.
X-ORIGINAL-URL:http://www.huette-markbronn.de
X-WR-CALDESC:Events for Hütte Markbronn e.V.
BEGIN:VEVENT
DTSTART;VALUE=DATE:20150522
DTEND;VALUE=DATE:20150525
DTSTAMP:20260424T105144
CREATED:20150122T160311Z
LAST-MODIFIED:20150122T160311Z
UID:2068-1432252800-1432598399@www.huette-markbronn.de
SUMMARY:Pfingsthütte
DESCRIPTION:
URL:http://www.huette-markbronn.de/termin/pfingsthuette/
LOCATION:Österreich
END:VEVENT
END:VCALENDAR