BEGIN:VCALENDAR
VERSION:2.0
PRODID:-//Hütte Markbronn e.V. - ECPv4.4.4//NONSGML v1.0//EN
CALSCALE:GREGORIAN
METHOD:PUBLISH
X-WR-CALNAME:Hütte Markbronn e.V.
X-ORIGINAL-URL:http://www.huette-markbronn.de
X-WR-CALDESC:Events for Hütte Markbronn e.V.
BEGIN:VEVENT
DTSTART;VALUE=DATE:20160505
DTEND;VALUE=DATE:20160505
DTSTAMP:20260424T152722
CREATED:20160417T182258Z
LAST-MODIFIED:20160505T073608Z
UID:2218-1462406400-1462492799@www.huette-markbronn.de
SUMMARY:Salenhau
DESCRIPTION:Treffpunkt 9:30 in der Hütte
URL:http://www.huette-markbronn.de/termin/salenhau-2/
LOCATION:Salenhau\, Ulm-Eggingen\, BW\, 89079\, Deutschland
END:VEVENT
END:VCALENDAR