BEGIN:VCALENDAR
VERSION:2.0
PRODID:-//Hütte Markbronn e.V. - ECPv4.4.4//NONSGML v1.0//EN
CALSCALE:GREGORIAN
METHOD:PUBLISH
X-WR-CALNAME:Hütte Markbronn e.V.
X-ORIGINAL-URL:http://www.huette-markbronn.de
X-WR-CALDESC:Events for Hütte Markbronn e.V.
BEGIN:VEVENT
DTSTART;TZID=UTC+1:20130509T100000
DTEND;TZID=UTC+1:20130509T235500
DTSTAMP:20260424T105402
CREATED:20130507T161521Z
LAST-MODIFIED:20130507T162300Z
UID:25-1368093600-1368143700@www.huette-markbronn.de
SUMMARY:Salenhau
DESCRIPTION: \n\nso wie immer ;)\n\n
URL:http://www.huette-markbronn.de/termin/salenhau/
LOCATION:Pappelauerstr. 74\, Markbronn\, 89134\, Deutschland
END:VEVENT
END:VCALENDAR