BEGIN:VCALENDAR
VERSION:2.0
PRODID:-//Hütte Markbronn e.V. - ECPv4.4.4//NONSGML v1.0//EN
CALSCALE:GREGORIAN
METHOD:PUBLISH
X-WR-CALNAME:Hütte Markbronn e.V.
X-ORIGINAL-URL:http://www.huette-markbronn.de
X-WR-CALDESC:Events for Hütte Markbronn e.V.
BEGIN:VEVENT
DTSTART;TZID=UTC+1:20170101T130000
DTEND;TZID=UTC+1:20170101T180000
DTSTAMP:20260424T233402
CREATED:20161231T121919Z
LAST-MODIFIED:20161231T121928Z
UID:2477-1483275600-1483293600@www.huette-markbronn.de
SUMMARY:Silvester Abbau
DESCRIPTION:
URL:http://www.huette-markbronn.de/termin/silvester-abbau/
LOCATION:Pappelauerstr. 74\, Blaustein\, 89134
END:VEVENT
END:VCALENDAR