BEGIN:VCALENDAR
VERSION:2.0
PRODID:-//Hütte Markbronn e.V. - ECPv4.4.4//NONSGML v1.0//EN
CALSCALE:GREGORIAN
METHOD:PUBLISH
X-WR-CALNAME:Hütte Markbronn e.V.
X-ORIGINAL-URL:http://www.huette-markbronn.de
X-WR-CALDESC:Events for Hütte Markbronn e.V.
BEGIN:VEVENT
DTSTART;TZID=UTC+1:20141231T190000
DTEND;TZID=UTC+1:20141231T235500
DTSTAMP:20260422T092249
CREATED:20141127T195607Z
LAST-MODIFIED:20141127T195607Z
UID:2031-1420052400-1420070100@www.huette-markbronn.de
SUMMARY:Silvester
DESCRIPTION:
URL:http://www.huette-markbronn.de/termin/silvester/
LOCATION:Pappelauerstr. 74\, Blaustein\, 89134
END:VEVENT
END:VCALENDAR