BEGIN:VCALENDAR
VERSION:2.0
PRODID:-//Hütte Markbronn e.V. - ECPv4.4.4//NONSGML v1.0//EN
CALSCALE:GREGORIAN
METHOD:PUBLISH
X-WR-CALNAME:Hütte Markbronn e.V.
X-ORIGINAL-URL:http://www.huette-markbronn.de
X-WR-CALDESC:Events for Hütte Markbronn e.V.
BEGIN:VEVENT
DTSTART;TZID=UTC+1:20150509T140000
DTEND;TZID=UTC+1:20150509T230000
DTSTAMP:20260422T141940
CREATED:20150425T185546Z
LAST-MODIFIED:20150425T185646Z
UID:2121-1431180000-1431212400@www.huette-markbronn.de
SUMMARY:Tischkickerturnier
DESCRIPTION:Anmeldung vor Ort - Party nach dem Finale
URL:http://www.huette-markbronn.de/termin/tischkickerturnier/
LOCATION:Pappelauerstr. 74\, Blaustein\, 89134
END:VEVENT
END:VCALENDAR