BEGIN:VCALENDAR
VERSION:2.0
PRODID:-//Hütte Markbronn e.V. - ECPv4.4.4//NONSGML v1.0//EN
CALSCALE:GREGORIAN
METHOD:PUBLISH
X-WR-CALNAME:Hütte Markbronn e.V.
X-ORIGINAL-URL:http://www.huette-markbronn.de
X-WR-CALDESC:Events for Hütte Markbronn e.V.
BEGIN:VEVENT
DTSTART;TZID=UTC+1:20170108T100000
DTEND;TZID=UTC+1:20170108T120000
DTSTAMP:20260425T034156
CREATED:20170103T091218Z
LAST-MODIFIED:20170103T091218Z
UID:2499-1483869600-1483876800@www.huette-markbronn.de
SUMMARY:Vorstandssitzung
DESCRIPTION:
URL:http://www.huette-markbronn.de/termin/vorstandssitzung/
LOCATION:Pappelauerstr. 74\, Blaustein\, 89134
CATEGORIES:Intern
END:VEVENT
END:VCALENDAR